BEGIN:VCALENDAR
VERSION:2.0
PRODID:-//Department Of Education//b10eab3f-fea7-440c-b2d7-67a3797caab4
BEGIN:VTIMEZONE
TZID:Australia/Sydney
TZURL:http://tzurl.org/zoneinfo-outlook/Australia/Sydney
X-LIC-LOCATION:Australia/Sydney
BEGIN:STANDARD
TZOFFSETFROM:+1100
TZOFFSETTO:+1000
TZNAME:AEST
DTSTART:19700405T030000
RRULE:FREQ=YEARLY;BYMONTH=4;BYDAY=1SU
END:STANDARD
BEGIN:DAYLIGHT
TZOFFSETFROM:+1000
TZOFFSETTO:+1100
TZNAME:AEDT
DTSTART:19701004T020000
RRULE:FREQ=YEARLY;BYMONTH=10;BYDAY=1SU
END:DAYLIGHT
END:VTIMEZONE
CALSCALE:GREGORIAN
X-WR-TIMEZONE:Australia/Sydney
BEGIN:VEVENT
DTSTART;VALUE=DATE:20200319
DTEND;VALUE=DATE:20200320
DTSTAMP:20200319T000000Z
UID:8d392390-6124-4b98-acb9-61b3013180ef
LOCATION:LPS
SUMMARY;LANGUAGE=en-us:Year 5/6 and Year 6 Class Photos
SEQUENCE:0
DESCRIPTION:Please wear full school uniform
END:VEVENT
TRANSP:TRANSPARENT
END:VCALENDAR
