BEGIN:VCALENDAR
VERSION:2.0
PRODID:-//Department Of Education//10a9ab0d-60a6-4b46-8cdf-e5e0b600a027
BEGIN:VTIMEZONE
TZID:Australia/Sydney
TZURL:http://tzurl.org/zoneinfo-outlook/Australia/Sydney
X-LIC-LOCATION:Australia/Sydney
BEGIN:STANDARD
TZOFFSETFROM:+1100
TZOFFSETTO:+1000
TZNAME:AEST
DTSTART:19700405T030000
RRULE:FREQ=YEARLY;BYMONTH=4;BYDAY=1SU
END:STANDARD
BEGIN:DAYLIGHT
TZOFFSETFROM:+1000
TZOFFSETTO:+1100
TZNAME:AEDT
DTSTART:19701004T020000
RRULE:FREQ=YEARLY;BYMONTH=10;BYDAY=1SU
END:DAYLIGHT
END:VTIMEZONE
CALSCALE:GREGORIAN
X-WR-TIMEZONE:Australia/Sydney
BEGIN:VEVENT
DTSTART;VALUE=DATE:20200320
DTEND;VALUE=DATE:20200321
DTSTAMP:20200320T000000Z
UID:591c7288-c1b5-49f1-b579-ba5c951a5d0f
LOCATION:LPS
SUMMARY;LANGUAGE=en-us:LPS Colour Run
SEQUENCE:0
DESCRIPTION:LPS Colour Run
END:VEVENT
TRANSP:TRANSPARENT
END:VCALENDAR
