BEGIN:VCALENDAR
VERSION:2.0
PRODID:-//Department Of Education//f81765b1-b320-491b-8472-35b2b546066b
BEGIN:VTIMEZONE
TZID:Australia/Sydney
TZURL:http://tzurl.org/zoneinfo-outlook/Australia/Sydney
X-LIC-LOCATION:Australia/Sydney
BEGIN:STANDARD
TZOFFSETFROM:+1100
TZOFFSETTO:+1000
TZNAME:AEST
DTSTART:19700405T030000
RRULE:FREQ=YEARLY;BYMONTH=4;BYDAY=1SU
END:STANDARD
BEGIN:DAYLIGHT
TZOFFSETFROM:+1000
TZOFFSETTO:+1100
TZNAME:AEDT
DTSTART:19701004T020000
RRULE:FREQ=YEARLY;BYMONTH=10;BYDAY=1SU
END:DAYLIGHT
END:VTIMEZONE
CALSCALE:GREGORIAN
X-WR-TIMEZONE:Australia/Sydney
BEGIN:VEVENT
DTSTART;TZID=Australia/Sydney:20200331T133000
DTEND;TZID=Australia/Sydney:20200331T150000
DTSTAMP:20200331T000000Z
UID:046d1edf-9ff6-405e-b717-40c027202aa5
LOCATION:LPS Library and Hall
SUMMARY;LANGUAGE=en-us:Lindfield Blue Assembly
SEQUENCE:0
DESCRIPTION:1:30 Afternoon Tea - by invitation only 2:00pm Assembly in Hall
END:VEVENT
TRANSP:TRANSPARENT
END:VCALENDAR
