BEGIN:VCALENDAR
VERSION:2.0
PRODID:-//Department Of Education//b0b7c216-11a3-4fc0-8e6e-39ef380b6f34
BEGIN:VTIMEZONE
TZID:Australia/Sydney
TZURL:http://tzurl.org/zoneinfo-outlook/Australia/Sydney
X-LIC-LOCATION:Australia/Sydney
BEGIN:STANDARD
TZOFFSETFROM:+1100
TZOFFSETTO:+1000
TZNAME:AEST
DTSTART:19700405T030000
RRULE:FREQ=YEARLY;BYMONTH=4;BYDAY=1SU
END:STANDARD
BEGIN:DAYLIGHT
TZOFFSETFROM:+1000
TZOFFSETTO:+1100
TZNAME:AEDT
DTSTART:19701004T020000
RRULE:FREQ=YEARLY;BYMONTH=10;BYDAY=1SU
END:DAYLIGHT
END:VTIMEZONE
CALSCALE:GREGORIAN
X-WR-TIMEZONE:Australia/Sydney
BEGIN:VEVENT
DTSTART;TZID=Australia/Sydney:20200303T183000
DTEND;TZID=Australia/Sydney:20200303T200000
DTSTAMP:20200303T000000Z
UID:41f926be-feda-4c57-83df-30ffb8c126b9
LOCATION:Kerrabee Centre Killara High School
SUMMARY;LANGUAGE=en-us:Dr Kristy Goodwin ? Raise kids who thrive online and offline
SEQUENCE:0
DESCRIPTION:Dr Kristy Goodwin ? Raise kids who thrive online and offline  FREE EVENT See the Lines newsletter for more information
END:VEVENT
TRANSP:TRANSPARENT
END:VCALENDAR
