BEGIN:VCALENDAR
VERSION:2.0
PRODID:-//Department Of Education//968b7fd6-c1aa-4ca2-856f-01860ee0065e
BEGIN:VTIMEZONE
TZID:Australia/Sydney
TZURL:http://tzurl.org/zoneinfo-outlook/Australia/Sydney
X-LIC-LOCATION:Australia/Sydney
BEGIN:STANDARD
TZOFFSETFROM:+1100
TZOFFSETTO:+1000
TZNAME:AEST
DTSTART:19700405T030000
RRULE:FREQ=YEARLY;BYMONTH=4;BYDAY=1SU
END:STANDARD
BEGIN:DAYLIGHT
TZOFFSETFROM:+1000
TZOFFSETTO:+1100
TZNAME:AEDT
DTSTART:19701004T020000
RRULE:FREQ=YEARLY;BYMONTH=10;BYDAY=1SU
END:DAYLIGHT
END:VTIMEZONE
CALSCALE:GREGORIAN
X-WR-TIMEZONE:Australia/Sydney
BEGIN:VEVENT
DTSTART;VALUE=DATE:20200311
DTEND;VALUE=DATE:20200312
DTSTAMP:20200311T000000Z
UID:2cd92ce9-c4d9-4276-b080-85220762c3bc
LOCATION:LPS
SUMMARY;LANGUAGE=en-us:Coloured Strings Day ? Wear a colourful shirt ?and bring a Gold Coin Donation
SEQUENCE:0
DESCRIPTION:Coloured Strings Day ? Wear a colourful shirt ?and bring a Gold Coin Donation Wednesday 11 March is Coloured Strings Day! No performances are required but we are hoping to raise money for the Strings Program and Music Camp. Please bring a gold coin donation and wear a colourful shirt on the day (with your sports short/skorts). See the flyer in the Lines.
END:VEVENT
TRANSP:TRANSPARENT
END:VCALENDAR
