BEGIN:VCALENDAR
VERSION:2.0
PRODID:-//Department Of Education//647e5473-5253-4305-9eba-d71cc9b6dbc5
BEGIN:VTIMEZONE
TZID:Australia/Sydney
TZURL:http://tzurl.org/zoneinfo-outlook/Australia/Sydney
X-LIC-LOCATION:Australia/Sydney
BEGIN:STANDARD
TZOFFSETFROM:+1100
TZOFFSETTO:+1000
TZNAME:AEST
DTSTART:19700405T030000
RRULE:FREQ=YEARLY;BYMONTH=4;BYDAY=1SU
END:STANDARD
BEGIN:DAYLIGHT
TZOFFSETFROM:+1000
TZOFFSETTO:+1100
TZNAME:AEDT
DTSTART:19701004T020000
RRULE:FREQ=YEARLY;BYMONTH=10;BYDAY=1SU
END:DAYLIGHT
END:VTIMEZONE
CALSCALE:GREGORIAN
X-WR-TIMEZONE:Australia/Sydney
BEGIN:VEVENT
DTSTART;VALUE=DATE:20200228
DTEND;VALUE=DATE:20200229
DTSTAMP:20200228T000000Z
UID:b49ea6f2-f9c5-437c-b91c-4bfccba33f2b
LOCATION:Sydney Olympic Park Aquatic Centre
SUMMARY;LANGUAGE=en-us:Zone Swimming Carnival
SEQUENCE:0
DESCRIPTION:Lindfield Public School in the Zone Swimming Carnival at Sydney Olympic Park Aquatic Centre, Olympic Blvd, Sydney Olympic Park NSW 2127, on Friday 28 February 2020.  The carnival will be from 8:00am ? 3:30pm approximately. Gates open at 7:15am and warm up will start at 7:50am. First race will commence at approximately 8:30am.
END:VEVENT
TRANSP:TRANSPARENT
END:VCALENDAR
